BEGIN:VCALENDAR
VERSION:2.0
PRODID:-// - ECPv6.15.13//NONSGML v1.0//EN
CALSCALE:GREGORIAN
METHOD:PUBLISH
X-ORIGINAL-URL:https://cmtsministries.com
X-WR-CALDESC:Events for 
REFRESH-INTERVAL;VALUE=DURATION:PT1H
X-Robots-Tag:noindex
X-PUBLISHED-TTL:PT1H
BEGIN:VTIMEZONE
TZID:UTC
BEGIN:STANDARD
TZOFFSETFROM:+0000
TZOFFSETTO:+0000
TZNAME:UTC
DTSTART:20210101T000000
END:STANDARD
END:VTIMEZONE
BEGIN:VEVENT
DTSTART;TZID=UTC:20230223T180000
DTEND;TZID=UTC:20230223T200000
DTSTAMP:20260425T161338
CREATED:20221216T154544Z
LAST-MODIFIED:20221216T154546Z
UID:2388-1677175200-1677182400@cmtsministries.com
SUMMARY:CMTS Banquet 2023
DESCRIPTION:
URL:https://cmtsministries.com/event/cmts-banquet-2023/
LOCATION:Shady Maple Smorgasbord\, 129 Toddy Dr\, East Earl\, 17519\, United States
END:VEVENT
BEGIN:VEVENT
DTSTART;TZID=UTC:20220715T183000
DTEND;TZID=UTC:20220715T213000
DTSTAMP:20260425T161338
CREATED:20220516T153001Z
LAST-MODIFIED:20220516T153001Z
UID:1577-1657909800-1657920600@cmtsministries.com
SUMMARY:Supporter Appreciation Dinner
DESCRIPTION:Join us for a Supporter Appreciation Dinner to celebrate 41 years of CMTS Ministries! \n  \nRSVP Required \nPlease RSVP by June 20th\, 2022. Email cmtsmin@aol.com or call (610)488-6975\, and specify your name\, your contact information\, and the number attending. \n  \nInclement weather date will be July 29th\, 2022.
URL:https://cmtsministries.com/event/supporter-appreciation-dinner/
LOCATION:CMTS Ministries\, 1119 N Boundary Rd\, BERNVILLE\, PA\, 19506\, United States
END:VEVENT
END:VCALENDAR