BEGIN:VCALENDAR
VERSION:2.0
PRODID:-// - ECPv6.15.13//NONSGML v1.0//EN
CALSCALE:GREGORIAN
METHOD:PUBLISH
X-ORIGINAL-URL:https://cmtsministries.com
X-WR-CALDESC:Events for 
REFRESH-INTERVAL;VALUE=DURATION:PT1H
X-Robots-Tag:noindex
X-PUBLISHED-TTL:PT1H
BEGIN:VTIMEZONE
TZID:UTC
BEGIN:STANDARD
TZOFFSETFROM:+0000
TZOFFSETTO:+0000
TZNAME:UTC
DTSTART:20250101T000000
END:STANDARD
END:VTIMEZONE
BEGIN:VEVENT
DTSTART;TZID=UTC:20260313T173000
DTEND;TZID=UTC:20260313T203000
DTSTAMP:20260423T223942
CREATED:20260113T211029Z
LAST-MODIFIED:20260113T211159Z
UID:6095-1773423000-1773433800@cmtsministries.com
SUMMARY:Food Fest Fundraiser 2026
DESCRIPTION:The Food Fest is back! This year\, we’re coming to Ephrata\, bringing cuisines from around the world. Sign up now for a chance to try new foods\, see where God has been moving\, and talk with each ministry to learn how CMTS has impacted them. \n  \nGet tickets here: https://cmts.kindful.com/e/food-fest-2026 \n  \n\n\n\n\nSponsor a Table\n$200.00 (8 Attendees) \nSponsor a table and invite your friends\, family\, coworkers\, pastor\, or whomever! Not sure who you’re inviting yet? Fill in your name on the ticket\, then email us with a list of names later at info@cmtsministries.com. \n\n\nAdult Meal\n$25.00 (1 Attendee) \n\n\n\nChild 4-10 Meal\n$15.00 (1 Attendee) \n\n\n\nChild 3 & Under Meal\nFree (10 Attendees)
URL:https://cmtsministries.com/event/food-fest-fundraiser-2026/
LOCATION:Dove Westgate Church\, 1755 W Main St\, Ephrata\, PA\, 17522\, United States
ATTACH;FMTTYPE=image/png:https://cmtsministries.com/wp-content/uploads/2025/12/Food-Fest-2026-1.png
END:VEVENT
END:VCALENDAR