BEGIN:VCALENDAR
VERSION:2.0
PRODID:-// - ECPv6.15.13//NONSGML v1.0//EN
CALSCALE:GREGORIAN
METHOD:PUBLISH
X-ORIGINAL-URL:https://cmtsministries.com
X-WR-CALDESC:Events for 
REFRESH-INTERVAL;VALUE=DURATION:PT1H
X-Robots-Tag:noindex
X-PUBLISHED-TTL:PT1H
BEGIN:VTIMEZONE
TZID:UTC
BEGIN:STANDARD
TZOFFSETFROM:+0000
TZOFFSETTO:+0000
TZNAME:UTC
DTSTART:20230101T000000
END:STANDARD
END:VTIMEZONE
BEGIN:VEVENT
DTSTART;TZID=UTC:20240914T100000
DTEND;TZID=UTC:20240914T170000
DTSTAMP:20260424T202150
CREATED:20240805T195518Z
LAST-MODIFIED:20240805T195745Z
UID:4953-1726308000-1726333200@cmtsministries.com
SUMMARY:Volleyball Fundraiser
DESCRIPTION:Got A Mean Serve?\nJoin us for a volleyball tournament to raise funds for CMTS Ministries. Proceeds go towards CMTS Ministries to help serve & equip those who are serving Christ. \n  \nClick the button or go to the website below for more details! \nMore Info
URL:https://cmtsministries.com/event/volleyball-fundraiser/
LOCATION:CMTS Open House Field\, 321 Focht Rd\, Bernville\, PA\, 19506\, United States
ORGANIZER;CN="CMTS Ministries":MAILTO:info@cmtsministries.com
END:VEVENT
END:VCALENDAR